BEGIN:VCALENDAR
VERSION:2.0
PRODID:-//stjoseph-libertyville.org//eCatholic//EN
X-WR-TIMEZONE:LocalTZ
BEGIN:VTIMEZONE
TZID:LocalTZ
X-LIC-LOCATION:LocalTZ
BEGIN:DAYLIGHT
TZOFFSETFROM:-0600
TZOFFSETTO:-0500
TZNAME:LocalTZ
DTSTART:19700308T020000
RRULE:FREQ=YEARLY;BYMONTH=3;BYDAY=2SU
END:DAYLIGHT
BEGIN:STANDARD
TZOFFSETFROM:-0500
TZOFFSETTO:-0600
TZNAME:LocalTZ
DTSTART:19701101T020000
RRULE:FREQ=YEARLY;BYMONTH=11;BYDAY=1SU
END:STANDARD
END:VTIMEZONE
BEGIN:VEVENT
UID:2450918@stjoseph-libertyville.org
DTSTAMP:20260422T172326Z
DTSTART;VALUE=DATE:20260607
DTEND;VALUE=DATE:20260608
SUMMARY:Corpus Christi Celebration
DESCRIPTION:Join us as we celebrate Corpus Christi\, honoring the real pre
 sence of Jesus in the Eucharist. This year\, Eucharistic processions will 
 follow the Saturday 5:00 PM Mass\, and the Sunday 9:00 AM and 11:00 AM Mas
 ses. There will also be periods of Eucharistic Adoration following the Sun
 day 7:00 AM and 5:00 PM Masses. Come spend time in prayer and celebration 
 with us.
END:VEVENT
END:VCALENDAR
